BEGIN:VCALENDAR
VERSION:2.0
PRODID:http://www.kufer.de/kuferweb / DE
METHOD:PUBLISH
CALSCALE:GREGORIAN
X-WR-TIMEZONE:Europe/Berlin
BEGIN:VTIMEZONE
TZID:Europe/Berlin
X-LIC-LOCATION:Europe/Berlin
BEGIN:DAYLIGHT
TZOFFSETFROM:+0100
TZOFFSETTO:+0200
TZNAME:CEST
DTSTART;TZID=Europe/Berlin:19700329T020000
RRULE:FREQ=YEARLY;INTERVAL=1;BYDAY=-1SU;BYMONTH=3
END:DAYLIGHT
BEGIN:STANDARD
TZOFFSETFROM:+0200
TZOFFSETTO:+0100
TZNAME:CET
DTSTART;TZID=Europe/Berlin:19701025T030000
RRULE:FREQ=YEARLY;INTERVAL=1;BYDAY=-1SU;BYMONTH=10
END:STANDARD
END:VTIMEZONE
BEGIN:VEVENT
DTSTAMP:20260423T163938
DTSTART;TZID=Europe/Berlin:20260613T110000
DTEND;TZID=Europe/Berlin:20260613T130000
UID:261-10135-20260613T110000@VHSMARKT INDERSDORF
SUMMARY:Die Fünf Höfe - Entdecken statt shoppen (261-10135) 
LOCATION:Treffpunkt: Theatinerstr. 8, Eingang der Kunsthalle, Theatinerstr. 8, 80333 München
END:VEVENT
END:VCALENDAR