BEGIN:VCALENDAR
VERSION:2.0
PRODID:http://www.kufer.de/kuferweb / DE
METHOD:PUBLISH
CALSCALE:GREGORIAN
X-WR-TIMEZONE:Europe/Berlin
BEGIN:VTIMEZONE
TZID:Europe/Berlin
X-LIC-LOCATION:Europe/Berlin
BEGIN:DAYLIGHT
TZOFFSETFROM:+0100
TZOFFSETTO:+0200
TZNAME:CEST
DTSTART;TZID=Europe/Berlin:19700329T020000
RRULE:FREQ=YEARLY;INTERVAL=1;BYDAY=-1SU;BYMONTH=3
END:DAYLIGHT
BEGIN:STANDARD
TZOFFSETFROM:+0200
TZOFFSETTO:+0100
TZNAME:CET
DTSTART;TZID=Europe/Berlin:19701025T030000
RRULE:FREQ=YEARLY;INTERVAL=1;BYDAY=-1SU;BYMONTH=10
END:STANDARD
END:VTIMEZONE
BEGIN:VEVENT
DTSTAMP:20260421T113532
DTSTART;TZID=Europe/Berlin:20260309T190000
DTEND;TZID=Europe/Berlin:20260309T200000
UID:261-22005-20260309T190000@VHSMARKT INDERSDORF
SUMMARY:English C1/C2 Advanced Conversation (261-22005) 
LOCATION:Mittelschule; EG; Raum 354, Wittelsbacherring 15, 85229 Markt Indersdorf
END:VEVENT
BEGIN:VEVENT
DTSTAMP:20260421T113532
DTSTART;TZID=Europe/Berlin:20260323T190000
DTEND;TZID=Europe/Berlin:20260323T200000
UID:261-22005-20260323T190000@VHSMARKT INDERSDORF
SUMMARY:English C1/C2 Advanced Conversation (261-22005) 
LOCATION:Mittelschule; EG; Raum 354, Wittelsbacherring 15, 85229 Markt Indersdorf
END:VEVENT
BEGIN:VEVENT
DTSTAMP:20260421T113532
DTSTART;TZID=Europe/Berlin:20260413T190000
DTEND;TZID=Europe/Berlin:20260413T200000
UID:261-22005-20260413T190000@VHSMARKT INDERSDORF
SUMMARY:English C1/C2 Advanced Conversation (261-22005) 
LOCATION:Mittelschule; EG; Raum 354, Wittelsbacherring 15, 85229 Markt Indersdorf
END:VEVENT
BEGIN:VEVENT
DTSTAMP:20260421T113532
DTSTART;TZID=Europe/Berlin:20260427T190000
DTEND;TZID=Europe/Berlin:20260427T200000
UID:261-22005-20260427T190000@VHSMARKT INDERSDORF
SUMMARY:English C1/C2 Advanced Conversation (261-22005) 
LOCATION:Mittelschule; EG; Raum 354, Wittelsbacherring 15, 85229 Markt Indersdorf
END:VEVENT
BEGIN:VEVENT
DTSTAMP:20260421T113532
DTSTART;TZID=Europe/Berlin:20260511T190000
DTEND;TZID=Europe/Berlin:20260511T200000
UID:261-22005-20260511T190000@VHSMARKT INDERSDORF
SUMMARY:English C1/C2 Advanced Conversation (261-22005) 
LOCATION:Mittelschule; EG; Raum 354, Wittelsbacherring 15, 85229 Markt Indersdorf
END:VEVENT
BEGIN:VEVENT
DTSTAMP:20260421T113532
DTSTART;TZID=Europe/Berlin:20260608T190000
DTEND;TZID=Europe/Berlin:20260608T200000
UID:261-22005-20260608T190000@VHSMARKT INDERSDORF
SUMMARY:English C1/C2 Advanced Conversation (261-22005) 
LOCATION:Mittelschule; EG; Raum 354, Wittelsbacherring 15, 85229 Markt Indersdorf
END:VEVENT
BEGIN:VEVENT
DTSTAMP:20260421T113532
DTSTART;TZID=Europe/Berlin:20260622T190000
DTEND;TZID=Europe/Berlin:20260622T200000
UID:261-22005-20260622T190000@VHSMARKT INDERSDORF
SUMMARY:English C1/C2 Advanced Conversation (261-22005) 
LOCATION:Mittelschule; EG; Raum 354, Wittelsbacherring 15, 85229 Markt Indersdorf
END:VEVENT
BEGIN:VEVENT
DTSTAMP:20260421T113532
DTSTART;TZID=Europe/Berlin:20260706T190000
DTEND;TZID=Europe/Berlin:20260706T200000
UID:261-22005-20260706T190000@VHSMARKT INDERSDORF
SUMMARY:English C1/C2 Advanced Conversation (261-22005) 
LOCATION:Mittelschule; EG; Raum 354, Wittelsbacherring 15, 85229 Markt Indersdorf
END:VEVENT
BEGIN:VEVENT
DTSTAMP:20260421T113532
DTSTART;TZID=Europe/Berlin:20260720T190000
DTEND;TZID=Europe/Berlin:20260720T200000
UID:261-22005-20260720T190000@VHSMARKT INDERSDORF
SUMMARY:English C1/C2 Advanced Conversation (261-22005) 
LOCATION:Mittelschule; EG; Raum 354, Wittelsbacherring 15, 85229 Markt Indersdorf
END:VEVENT
END:VCALENDAR