BEGIN:VCALENDAR
VERSION:2.0
PRODID:http://www.kufer.de/kuferweb / DE
METHOD:PUBLISH
CALSCALE:GREGORIAN
X-WR-TIMEZONE:Europe/Berlin
BEGIN:VTIMEZONE
TZID:Europe/Berlin
X-LIC-LOCATION:Europe/Berlin
BEGIN:DAYLIGHT
TZOFFSETFROM:+0100
TZOFFSETTO:+0200
TZNAME:CEST
DTSTART;TZID=Europe/Berlin:19700329T020000
RRULE:FREQ=YEARLY;INTERVAL=1;BYDAY=-1SU;BYMONTH=3
END:DAYLIGHT
BEGIN:STANDARD
TZOFFSETFROM:+0200
TZOFFSETTO:+0100
TZNAME:CET
DTSTART;TZID=Europe/Berlin:19701025T030000
RRULE:FREQ=YEARLY;INTERVAL=1;BYDAY=-1SU;BYMONTH=10
END:STANDARD
END:VTIMEZONE
BEGIN:VEVENT
DTSTAMP:20260423T212431
DTSTART;TZID=Europe/Berlin:20260227T081500
DTEND;TZID=Europe/Berlin:20260227T094500
UID:261-22015-20260227T081500@VHSMARKT INDERSDORF
SUMMARY:Englisch für Fortgeschrittene Niveau B1/ B2  Gruppe Aberdeen (261-22015) 
LOCATION:Museum, Gewölbe, Marienplatz 1-3, 85229 Markt Indersdorf
END:VEVENT
BEGIN:VEVENT
DTSTAMP:20260423T212431
DTSTART;TZID=Europe/Berlin:20260306T081500
DTEND;TZID=Europe/Berlin:20260306T094500
UID:261-22015-20260306T081500@VHSMARKT INDERSDORF
SUMMARY:Englisch für Fortgeschrittene Niveau B1/ B2  Gruppe Aberdeen (261-22015) 
LOCATION:Museum, Gewölbe, Marienplatz 1-3, 85229 Markt Indersdorf
END:VEVENT
BEGIN:VEVENT
DTSTAMP:20260423T212431
DTSTART;TZID=Europe/Berlin:20260313T081500
DTEND;TZID=Europe/Berlin:20260313T094500
UID:261-22015-20260313T081500@VHSMARKT INDERSDORF
SUMMARY:Englisch für Fortgeschrittene Niveau B1/ B2  Gruppe Aberdeen (261-22015) 
LOCATION:Museum, Gewölbe, Marienplatz 1-3, 85229 Markt Indersdorf
END:VEVENT
BEGIN:VEVENT
DTSTAMP:20260423T212431
DTSTART;TZID=Europe/Berlin:20260320T081500
DTEND;TZID=Europe/Berlin:20260320T094500
UID:261-22015-20260320T081500@VHSMARKT INDERSDORF
SUMMARY:Englisch für Fortgeschrittene Niveau B1/ B2  Gruppe Aberdeen (261-22015) 
LOCATION:Museum, Gewölbe, Marienplatz 1-3, 85229 Markt Indersdorf
END:VEVENT
BEGIN:VEVENT
DTSTAMP:20260423T212431
DTSTART;TZID=Europe/Berlin:20260327T081500
DTEND;TZID=Europe/Berlin:20260327T094500
UID:261-22015-20260327T081500@VHSMARKT INDERSDORF
SUMMARY:Englisch für Fortgeschrittene Niveau B1/ B2  Gruppe Aberdeen (261-22015) 
LOCATION:Museum, Gewölbe, Marienplatz 1-3, 85229 Markt Indersdorf
END:VEVENT
BEGIN:VEVENT
DTSTAMP:20260423T212431
DTSTART;TZID=Europe/Berlin:20260417T081500
DTEND;TZID=Europe/Berlin:20260417T094500
UID:261-22015-20260417T081500@VHSMARKT INDERSDORF
SUMMARY:Englisch für Fortgeschrittene Niveau B1/ B2  Gruppe Aberdeen (261-22015) 
LOCATION:Museum, Gewölbe, Marienplatz 1-3, 85229 Markt Indersdorf
END:VEVENT
BEGIN:VEVENT
DTSTAMP:20260423T212431
DTSTART;TZID=Europe/Berlin:20260424T081500
DTEND;TZID=Europe/Berlin:20260424T094500
UID:261-22015-20260424T081500@VHSMARKT INDERSDORF
SUMMARY:Englisch für Fortgeschrittene Niveau B1/ B2  Gruppe Aberdeen (261-22015) 
LOCATION:Museum, Gewölbe, Marienplatz 1-3, 85229 Markt Indersdorf
END:VEVENT
BEGIN:VEVENT
DTSTAMP:20260423T212431
DTSTART;TZID=Europe/Berlin:20260508T081500
DTEND;TZID=Europe/Berlin:20260508T094500
UID:261-22015-20260508T081500@VHSMARKT INDERSDORF
SUMMARY:Englisch für Fortgeschrittene Niveau B1/ B2  Gruppe Aberdeen (261-22015) 
LOCATION:Museum, Gewölbe, Marienplatz 1-3, 85229 Markt Indersdorf
END:VEVENT
BEGIN:VEVENT
DTSTAMP:20260423T212431
DTSTART;TZID=Europe/Berlin:20260515T081500
DTEND;TZID=Europe/Berlin:20260515T094500
UID:261-22015-20260515T081500@VHSMARKT INDERSDORF
SUMMARY:Englisch für Fortgeschrittene Niveau B1/ B2  Gruppe Aberdeen (261-22015) 
LOCATION:Museum, Gewölbe, Marienplatz 1-3, 85229 Markt Indersdorf
END:VEVENT
BEGIN:VEVENT
DTSTAMP:20260423T212431
DTSTART;TZID=Europe/Berlin:20260522T081500
DTEND;TZID=Europe/Berlin:20260522T094500
UID:261-22015-20260522T081500@VHSMARKT INDERSDORF
SUMMARY:Englisch für Fortgeschrittene Niveau B1/ B2  Gruppe Aberdeen (261-22015) 
LOCATION:Museum, Gewölbe, Marienplatz 1-3, 85229 Markt Indersdorf
END:VEVENT
BEGIN:VEVENT
DTSTAMP:20260423T212431
DTSTART;TZID=Europe/Berlin:20260612T081500
DTEND;TZID=Europe/Berlin:20260612T094500
UID:261-22015-20260612T081500@VHSMARKT INDERSDORF
SUMMARY:Englisch für Fortgeschrittene Niveau B1/ B2  Gruppe Aberdeen (261-22015) 
LOCATION:Museum, Gewölbe, Marienplatz 1-3, 85229 Markt Indersdorf
END:VEVENT
BEGIN:VEVENT
DTSTAMP:20260423T212431
DTSTART;TZID=Europe/Berlin:20260619T081500
DTEND;TZID=Europe/Berlin:20260619T094500
UID:261-22015-20260619T081500@VHSMARKT INDERSDORF
SUMMARY:Englisch für Fortgeschrittene Niveau B1/ B2  Gruppe Aberdeen (261-22015) 
LOCATION:Museum, Gewölbe, Marienplatz 1-3, 85229 Markt Indersdorf
END:VEVENT
END:VCALENDAR