BEGIN:VCALENDAR
VERSION:2.0
PRODID:http://www.kufer.de/kuferweb / DE
METHOD:PUBLISH
CALSCALE:GREGORIAN
X-WR-TIMEZONE:Europe/Berlin
BEGIN:VTIMEZONE
TZID:Europe/Berlin
X-LIC-LOCATION:Europe/Berlin
BEGIN:DAYLIGHT
TZOFFSETFROM:+0100
TZOFFSETTO:+0200
TZNAME:CEST
DTSTART;TZID=Europe/Berlin:19700329T020000
RRULE:FREQ=YEARLY;INTERVAL=1;BYDAY=-1SU;BYMONTH=3
END:DAYLIGHT
BEGIN:STANDARD
TZOFFSETFROM:+0200
TZOFFSETTO:+0100
TZNAME:CET
DTSTART;TZID=Europe/Berlin:19701025T030000
RRULE:FREQ=YEARLY;INTERVAL=1;BYDAY=-1SU;BYMONTH=10
END:STANDARD
END:VTIMEZONE
BEGIN:VEVENT
DTSTAMP:20260421T114549
DTSTART;TZID=Europe/Berlin:20260624T193000
DTEND;TZID=Europe/Berlin:20260624T210000
UID:261-44115C-20260624T193000@VHSMARKT INDERSDORF
SUMMARY:Kundalini Yoga für alle (261-44115C) 
LOCATION:Sun-Mobil-Cars Gebäude, Lorenz-Braren-Str. 12, Lorenz-Braren-Str. 12, 85229 Markt Indersdorf
END:VEVENT
BEGIN:VEVENT
DTSTAMP:20260421T114549
DTSTART;TZID=Europe/Berlin:20260701T193000
DTEND;TZID=Europe/Berlin:20260701T210000
UID:261-44115C-20260701T193000@VHSMARKT INDERSDORF
SUMMARY:Kundalini Yoga für alle (261-44115C) 
LOCATION:Sun-Mobil-Cars Gebäude, Lorenz-Braren-Str. 12, Lorenz-Braren-Str. 12, 85229 Markt Indersdorf
END:VEVENT
BEGIN:VEVENT
DTSTAMP:20260421T114549
DTSTART;TZID=Europe/Berlin:20260708T193000
DTEND;TZID=Europe/Berlin:20260708T210000
UID:261-44115C-20260708T193000@VHSMARKT INDERSDORF
SUMMARY:Kundalini Yoga für alle (261-44115C) 
LOCATION:Sun-Mobil-Cars Gebäude, Lorenz-Braren-Str. 12, Lorenz-Braren-Str. 12, 85229 Markt Indersdorf
END:VEVENT
BEGIN:VEVENT
DTSTAMP:20260421T114549
DTSTART;TZID=Europe/Berlin:20260715T193000
DTEND;TZID=Europe/Berlin:20260715T210000
UID:261-44115C-20260715T193000@VHSMARKT INDERSDORF
SUMMARY:Kundalini Yoga für alle (261-44115C) 
LOCATION:Sun-Mobil-Cars Gebäude, Lorenz-Braren-Str. 12, Lorenz-Braren-Str. 12, 85229 Markt Indersdorf
END:VEVENT
BEGIN:VEVENT
DTSTAMP:20260421T114549
DTSTART;TZID=Europe/Berlin:20260722T193000
DTEND;TZID=Europe/Berlin:20260722T210000
UID:261-44115C-20260722T193000@VHSMARKT INDERSDORF
SUMMARY:Kundalini Yoga für alle (261-44115C) 
LOCATION:Sun-Mobil-Cars Gebäude, Lorenz-Braren-Str. 12, Lorenz-Braren-Str. 12, 85229 Markt Indersdorf
END:VEVENT
END:VCALENDAR