BEGIN:VCALENDAR
VERSION:2.0
PRODID:http://www.kufer.de/kuferweb / DE
METHOD:PUBLISH
CALSCALE:GREGORIAN
X-WR-TIMEZONE:Europe/Berlin
BEGIN:VTIMEZONE
TZID:Europe/Berlin
X-LIC-LOCATION:Europe/Berlin
BEGIN:DAYLIGHT
TZOFFSETFROM:+0100
TZOFFSETTO:+0200
TZNAME:CEST
DTSTART;TZID=Europe/Berlin:19700329T020000
RRULE:FREQ=YEARLY;INTERVAL=1;BYDAY=-1SU;BYMONTH=3
END:DAYLIGHT
BEGIN:STANDARD
TZOFFSETFROM:+0200
TZOFFSETTO:+0100
TZNAME:CET
DTSTART;TZID=Europe/Berlin:19701025T030000
RRULE:FREQ=YEARLY;INTERVAL=1;BYDAY=-1SU;BYMONTH=10
END:STANDARD
END:VTIMEZONE
BEGIN:VEVENT
DTSTAMP:20260421T133911
DTSTART;TZID=Europe/Berlin:20260422T190000
DTEND;TZID=Europe/Berlin:20260422T203000
UID:261-44119A-20260422T190000@VHSMARKT INDERSDORF
SUMMARY:Kundalini Yoga für Anfänger und leicht Geübte (261-44119A) 
LOCATION:Sportraum, Kinderhaus Weichs, Fränkinger Straße 11, 85258 Weichs
END:VEVENT
BEGIN:VEVENT
DTSTAMP:20260421T133911
DTSTART;TZID=Europe/Berlin:20260429T190000
DTEND;TZID=Europe/Berlin:20260429T203000
UID:261-44119A-20260429T190000@VHSMARKT INDERSDORF
SUMMARY:Kundalini Yoga für Anfänger und leicht Geübte (261-44119A) 
LOCATION:Sportraum, Kinderhaus Weichs, Fränkinger Straße 11, 85258 Weichs
END:VEVENT
BEGIN:VEVENT
DTSTAMP:20260421T133911
DTSTART;TZID=Europe/Berlin:20260506T190000
DTEND;TZID=Europe/Berlin:20260506T203000
UID:261-44119A-20260506T190000@VHSMARKT INDERSDORF
SUMMARY:Kundalini Yoga für Anfänger und leicht Geübte (261-44119A) 
LOCATION:Sportraum, Kinderhaus Weichs, Fränkinger Straße 11, 85258 Weichs
END:VEVENT
BEGIN:VEVENT
DTSTAMP:20260421T133911
DTSTART;TZID=Europe/Berlin:20260513T190000
DTEND;TZID=Europe/Berlin:20260513T203000
UID:261-44119A-20260513T190000@VHSMARKT INDERSDORF
SUMMARY:Kundalini Yoga für Anfänger und leicht Geübte (261-44119A) 
LOCATION:Sportraum, Kinderhaus Weichs, Fränkinger Straße 11, 85258 Weichs
END:VEVENT
BEGIN:VEVENT
DTSTAMP:20260421T133911
DTSTART;TZID=Europe/Berlin:20260520T190000
DTEND;TZID=Europe/Berlin:20260520T203000
UID:261-44119A-20260520T190000@VHSMARKT INDERSDORF
SUMMARY:Kundalini Yoga für Anfänger und leicht Geübte (261-44119A) 
LOCATION:Sportraum, Kinderhaus Weichs, Fränkinger Straße 11, 85258 Weichs
END:VEVENT
END:VCALENDAR