BEGIN:VCALENDAR
VERSION:2.0
PRODID:http://www.kufer.de/kuferweb / DE
METHOD:PUBLISH
CALSCALE:GREGORIAN
X-WR-TIMEZONE:Europe/Berlin
BEGIN:VTIMEZONE
TZID:Europe/Berlin
X-LIC-LOCATION:Europe/Berlin
BEGIN:DAYLIGHT
TZOFFSETFROM:+0100
TZOFFSETTO:+0200
TZNAME:CEST
DTSTART;TZID=Europe/Berlin:19700329T020000
RRULE:FREQ=YEARLY;INTERVAL=1;BYDAY=-1SU;BYMONTH=3
END:DAYLIGHT
BEGIN:STANDARD
TZOFFSETFROM:+0200
TZOFFSETTO:+0100
TZNAME:CET
DTSTART;TZID=Europe/Berlin:19701025T030000
RRULE:FREQ=YEARLY;INTERVAL=1;BYDAY=-1SU;BYMONTH=10
END:STANDARD
END:VTIMEZONE
BEGIN:VEVENT
DTSTAMP:20260421T123156
DTSTART;TZID=Europe/Berlin:20260517T090000
DTEND;TZID=Europe/Berlin:20260517T103000
UID:261-44120B-20260517T090000@VHSMARKT INDERSDORF
SUMMARY:Erfrischt und entspannt am Sonntag mit Yoga (261-44120B) 
LOCATION:vhs Sportraum, Freisinger Str. 1, Freisinger Str. 1, 85229 Markt Indersdorf
END:VEVENT
BEGIN:VEVENT
DTSTAMP:20260421T123156
DTSTART;TZID=Europe/Berlin:20260614T090000
DTEND;TZID=Europe/Berlin:20260614T103000
UID:261-44120B-20260614T090000@VHSMARKT INDERSDORF
SUMMARY:Erfrischt und entspannt am Sonntag mit Yoga (261-44120B) 
LOCATION:vhs Sportraum, Freisinger Str. 1, Freisinger Str. 1, 85229 Markt Indersdorf
END:VEVENT
BEGIN:VEVENT
DTSTAMP:20260421T123156
DTSTART;TZID=Europe/Berlin:20260621T090000
DTEND;TZID=Europe/Berlin:20260621T103000
UID:261-44120B-20260621T090000@VHSMARKT INDERSDORF
SUMMARY:Erfrischt und entspannt am Sonntag mit Yoga (261-44120B) 
LOCATION:vhs Sportraum, Freisinger Str. 1, Freisinger Str. 1, 85229 Markt Indersdorf
END:VEVENT
BEGIN:VEVENT
DTSTAMP:20260421T123156
DTSTART;TZID=Europe/Berlin:20260628T090000
DTEND;TZID=Europe/Berlin:20260628T103000
UID:261-44120B-20260628T090000@VHSMARKT INDERSDORF
SUMMARY:Erfrischt und entspannt am Sonntag mit Yoga (261-44120B) 
LOCATION:vhs Sportraum, Freisinger Str. 1, Freisinger Str. 1, 85229 Markt Indersdorf
END:VEVENT
BEGIN:VEVENT
DTSTAMP:20260421T123156
DTSTART;TZID=Europe/Berlin:20260705T090000
DTEND;TZID=Europe/Berlin:20260705T103000
UID:261-44120B-20260705T090000@VHSMARKT INDERSDORF
SUMMARY:Erfrischt und entspannt am Sonntag mit Yoga (261-44120B) 
LOCATION:vhs Sportraum, Freisinger Str. 1, Freisinger Str. 1, 85229 Markt Indersdorf
END:VEVENT
END:VCALENDAR