BEGIN:VCALENDAR
VERSION:2.0
PRODID:http://www.kufer.de/kuferweb / DE
METHOD:PUBLISH
CALSCALE:GREGORIAN
X-WR-TIMEZONE:Europe/Berlin
BEGIN:VTIMEZONE
TZID:Europe/Berlin
X-LIC-LOCATION:Europe/Berlin
BEGIN:DAYLIGHT
TZOFFSETFROM:+0100
TZOFFSETTO:+0200
TZNAME:CEST
DTSTART;TZID=Europe/Berlin:19700329T020000
RRULE:FREQ=YEARLY;INTERVAL=1;BYDAY=-1SU;BYMONTH=3
END:DAYLIGHT
BEGIN:STANDARD
TZOFFSETFROM:+0200
TZOFFSETTO:+0100
TZNAME:CET
DTSTART;TZID=Europe/Berlin:19701025T030000
RRULE:FREQ=YEARLY;INTERVAL=1;BYDAY=-1SU;BYMONTH=10
END:STANDARD
END:VTIMEZONE
BEGIN:VEVENT
DTSTAMP:20260422T123355
DTSTART;TZID=Europe/Berlin:20260413T090000
DTEND;TZID=Europe/Berlin:20260413T101500
UID:261-44460-20260413T090000@VHSMARKT INDERSDORF
SUMMARY:Qi Gong – Ruhe und Energie im Einklang (261-44460) 
LOCATION:vhs Sportraum, Freisinger Str. 1, Freisinger Str. 1, 85229 Markt Indersdorf
END:VEVENT
BEGIN:VEVENT
DTSTAMP:20260422T123355
DTSTART;TZID=Europe/Berlin:20260420T090000
DTEND;TZID=Europe/Berlin:20260420T101500
UID:261-44460-20260420T090000@VHSMARKT INDERSDORF
SUMMARY:Qi Gong – Ruhe und Energie im Einklang (261-44460) 
LOCATION:vhs Sportraum, Freisinger Str. 1, Freisinger Str. 1, 85229 Markt Indersdorf
END:VEVENT
BEGIN:VEVENT
DTSTAMP:20260422T123355
DTSTART;TZID=Europe/Berlin:20260427T090000
DTEND;TZID=Europe/Berlin:20260427T101500
UID:261-44460-20260427T090000@VHSMARKT INDERSDORF
SUMMARY:Qi Gong – Ruhe und Energie im Einklang (261-44460) 
LOCATION:vhs Sportraum, Freisinger Str. 1, Freisinger Str. 1, 85229 Markt Indersdorf
END:VEVENT
BEGIN:VEVENT
DTSTAMP:20260422T123355
DTSTART;TZID=Europe/Berlin:20260504T090000
DTEND;TZID=Europe/Berlin:20260504T101500
UID:261-44460-20260504T090000@VHSMARKT INDERSDORF
SUMMARY:Qi Gong – Ruhe und Energie im Einklang (261-44460) 
LOCATION:vhs Sportraum, Freisinger Str. 1, Freisinger Str. 1, 85229 Markt Indersdorf
END:VEVENT
BEGIN:VEVENT
DTSTAMP:20260422T123355
DTSTART;TZID=Europe/Berlin:20260511T090000
DTEND;TZID=Europe/Berlin:20260511T101500
UID:261-44460-20260511T090000@VHSMARKT INDERSDORF
SUMMARY:Qi Gong – Ruhe und Energie im Einklang (261-44460) 
LOCATION:vhs Sportraum, Freisinger Str. 1, Freisinger Str. 1, 85229 Markt Indersdorf
END:VEVENT
BEGIN:VEVENT
DTSTAMP:20260422T123355
DTSTART;TZID=Europe/Berlin:20260518T090000
DTEND;TZID=Europe/Berlin:20260518T101500
UID:261-44460-20260518T090000@VHSMARKT INDERSDORF
SUMMARY:Qi Gong – Ruhe und Energie im Einklang (261-44460) 
LOCATION:vhs Sportraum, Freisinger Str. 1, Freisinger Str. 1, 85229 Markt Indersdorf
END:VEVENT
BEGIN:VEVENT
DTSTAMP:20260422T123355
DTSTART;TZID=Europe/Berlin:20260608T090000
DTEND;TZID=Europe/Berlin:20260608T101500
UID:261-44460-20260608T090000@VHSMARKT INDERSDORF
SUMMARY:Qi Gong – Ruhe und Energie im Einklang (261-44460) 
LOCATION:vhs Sportraum, Freisinger Str. 1, Freisinger Str. 1, 85229 Markt Indersdorf
END:VEVENT
BEGIN:VEVENT
DTSTAMP:20260422T123355
DTSTART;TZID=Europe/Berlin:20260615T090000
DTEND;TZID=Europe/Berlin:20260615T101500
UID:261-44460-20260615T090000@VHSMARKT INDERSDORF
SUMMARY:Qi Gong – Ruhe und Energie im Einklang (261-44460) 
LOCATION:vhs Sportraum, Freisinger Str. 1, Freisinger Str. 1, 85229 Markt Indersdorf
END:VEVENT
BEGIN:VEVENT
DTSTAMP:20260422T123355
DTSTART;TZID=Europe/Berlin:20260629T090000
DTEND;TZID=Europe/Berlin:20260629T101500
UID:261-44460-20260629T090000@VHSMARKT INDERSDORF
SUMMARY:Qi Gong – Ruhe und Energie im Einklang (261-44460) 
LOCATION:vhs Sportraum, Freisinger Str. 1, Freisinger Str. 1, 85229 Markt Indersdorf
END:VEVENT
BEGIN:VEVENT
DTSTAMP:20260422T123355
DTSTART;TZID=Europe/Berlin:20260706T090000
DTEND;TZID=Europe/Berlin:20260706T101500
UID:261-44460-20260706T090000@VHSMARKT INDERSDORF
SUMMARY:Qi Gong – Ruhe und Energie im Einklang (261-44460) 
LOCATION:vhs Sportraum, Freisinger Str. 1, Freisinger Str. 1, 85229 Markt Indersdorf
END:VEVENT
END:VCALENDAR