BEGIN:VCALENDAR
VERSION:2.0
PRODID:http://www.kufer.de/kuferweb / DE
METHOD:PUBLISH
CALSCALE:GREGORIAN
X-WR-TIMEZONE:Europe/Berlin
BEGIN:VTIMEZONE
TZID:Europe/Berlin
X-LIC-LOCATION:Europe/Berlin
BEGIN:DAYLIGHT
TZOFFSETFROM:+0100
TZOFFSETTO:+0200
TZNAME:CEST
DTSTART;TZID=Europe/Berlin:19700329T020000
RRULE:FREQ=YEARLY;INTERVAL=1;BYDAY=-1SU;BYMONTH=3
END:DAYLIGHT
BEGIN:STANDARD
TZOFFSETFROM:+0200
TZOFFSETTO:+0100
TZNAME:CET
DTSTART;TZID=Europe/Berlin:19701025T030000
RRULE:FREQ=YEARLY;INTERVAL=1;BYDAY=-1SU;BYMONTH=10
END:STANDARD
END:VTIMEZONE
BEGIN:VEVENT
DTSTAMP:20260420T042345
DTSTART;TZID=Europe/Berlin:20260206T170000
DTEND;TZID=Europe/Berlin:20260206T180000
UID:261-44461-20260206T170000@VHSMARKT INDERSDORF
SUMMARY:Taiji-Qigong (261-44461) 
LOCATION:vhs Sportraum, Freisinger Str. 1, Freisinger Str. 1, 85229 Markt Indersdorf
END:VEVENT
BEGIN:VEVENT
DTSTAMP:20260420T042345
DTSTART;TZID=Europe/Berlin:20260213T170000
DTEND;TZID=Europe/Berlin:20260213T180000
UID:261-44461-20260213T170000@VHSMARKT INDERSDORF
SUMMARY:Taiji-Qigong (261-44461) 
LOCATION:vhs Sportraum, Freisinger Str. 1, Freisinger Str. 1, 85229 Markt Indersdorf
END:VEVENT
BEGIN:VEVENT
DTSTAMP:20260420T042345
DTSTART;TZID=Europe/Berlin:20260227T170000
DTEND;TZID=Europe/Berlin:20260227T180000
UID:261-44461-20260227T170000@VHSMARKT INDERSDORF
SUMMARY:Taiji-Qigong (261-44461) 
LOCATION:vhs Sportraum, Freisinger Str. 1, Freisinger Str. 1, 85229 Markt Indersdorf
END:VEVENT
BEGIN:VEVENT
DTSTAMP:20260420T042345
DTSTART;TZID=Europe/Berlin:20260306T170000
DTEND;TZID=Europe/Berlin:20260306T180000
UID:261-44461-20260306T170000@VHSMARKT INDERSDORF
SUMMARY:Taiji-Qigong (261-44461) 
LOCATION:vhs Sportraum, Freisinger Str. 1, Freisinger Str. 1, 85229 Markt Indersdorf
END:VEVENT
BEGIN:VEVENT
DTSTAMP:20260420T042345
DTSTART;TZID=Europe/Berlin:20260313T170000
DTEND;TZID=Europe/Berlin:20260313T180000
UID:261-44461-20260313T170000@VHSMARKT INDERSDORF
SUMMARY:Taiji-Qigong (261-44461) 
LOCATION:vhs Sportraum, Freisinger Str. 1, Freisinger Str. 1, 85229 Markt Indersdorf
END:VEVENT
BEGIN:VEVENT
DTSTAMP:20260420T042345
DTSTART;TZID=Europe/Berlin:20260320T170000
DTEND;TZID=Europe/Berlin:20260320T180000
UID:261-44461-20260320T170000@VHSMARKT INDERSDORF
SUMMARY:Taiji-Qigong (261-44461) 
LOCATION:vhs Sportraum, Freisinger Str. 1, Freisinger Str. 1, 85229 Markt Indersdorf
END:VEVENT
BEGIN:VEVENT
DTSTAMP:20260420T042345
DTSTART;TZID=Europe/Berlin:20260417T170000
DTEND;TZID=Europe/Berlin:20260417T180000
UID:261-44461-20260417T170000@VHSMARKT INDERSDORF
SUMMARY:Taiji-Qigong (261-44461) 
LOCATION:vhs Sportraum, Freisinger Str. 1, Freisinger Str. 1, 85229 Markt Indersdorf
END:VEVENT
BEGIN:VEVENT
DTSTAMP:20260420T042345
DTSTART;TZID=Europe/Berlin:20260424T170000
DTEND;TZID=Europe/Berlin:20260424T180000
UID:261-44461-20260424T170000@VHSMARKT INDERSDORF
SUMMARY:Taiji-Qigong (261-44461) 
LOCATION:vhs Sportraum, Freisinger Str. 1, Freisinger Str. 1, 85229 Markt Indersdorf
END:VEVENT
BEGIN:VEVENT
DTSTAMP:20260420T042345
DTSTART;TZID=Europe/Berlin:20260508T170000
DTEND;TZID=Europe/Berlin:20260508T180000
UID:261-44461-20260508T170000@VHSMARKT INDERSDORF
SUMMARY:Taiji-Qigong (261-44461) 
LOCATION:vhs Sportraum, Freisinger Str. 1, Freisinger Str. 1, 85229 Markt Indersdorf
END:VEVENT
BEGIN:VEVENT
DTSTAMP:20260420T042345
DTSTART;TZID=Europe/Berlin:20260515T170000
DTEND;TZID=Europe/Berlin:20260515T180000
UID:261-44461-20260515T170000@VHSMARKT INDERSDORF
SUMMARY:Taiji-Qigong (261-44461) 
LOCATION:vhs Sportraum, Freisinger Str. 1, Freisinger Str. 1, 85229 Markt Indersdorf
END:VEVENT
BEGIN:VEVENT
DTSTAMP:20260420T042345
DTSTART;TZID=Europe/Berlin:20260522T170000
DTEND;TZID=Europe/Berlin:20260522T180000
UID:261-44461-20260522T170000@VHSMARKT INDERSDORF
SUMMARY:Taiji-Qigong (261-44461) 
LOCATION:vhs Sportraum, Freisinger Str. 1, Freisinger Str. 1, 85229 Markt Indersdorf
END:VEVENT
BEGIN:VEVENT
DTSTAMP:20260420T042345
DTSTART;TZID=Europe/Berlin:20260612T170000
DTEND;TZID=Europe/Berlin:20260612T180000
UID:261-44461-20260612T170000@VHSMARKT INDERSDORF
SUMMARY:Taiji-Qigong (261-44461) 
LOCATION:vhs Sportraum, Freisinger Str. 1, Freisinger Str. 1, 85229 Markt Indersdorf
END:VEVENT
END:VCALENDAR