BEGIN:VCALENDAR
VERSION:2.0
PRODID:http://www.kufer.de/kuferweb / DE
METHOD:PUBLISH
CALSCALE:GREGORIAN
X-WR-TIMEZONE:Europe/Berlin
BEGIN:VTIMEZONE
TZID:Europe/Berlin
X-LIC-LOCATION:Europe/Berlin
BEGIN:DAYLIGHT
TZOFFSETFROM:+0100
TZOFFSETTO:+0200
TZNAME:CEST
DTSTART;TZID=Europe/Berlin:19700329T020000
RRULE:FREQ=YEARLY;INTERVAL=1;BYDAY=-1SU;BYMONTH=3
END:DAYLIGHT
BEGIN:STANDARD
TZOFFSETFROM:+0200
TZOFFSETTO:+0100
TZNAME:CET
DTSTART;TZID=Europe/Berlin:19701025T030000
RRULE:FREQ=YEARLY;INTERVAL=1;BYDAY=-1SU;BYMONTH=10
END:STANDARD
END:VTIMEZONE
BEGIN:VEVENT
DTSTAMP:20260424T163048
DTSTART;TZID=Europe/Berlin:20260206T170000
DTEND;TZID=Europe/Berlin:20260206T180000
UID:261-45082-20260206T170000@VHSMARKT INDERSDORF
SUMMARY:Kinderturnen (7 bis 10 Jahre) (261-45082) 
LOCATION:Mittelschule; Turnhalle Mittelschule Markt Indersdorf, Wittelsbacherring 15, 85229 Markt Indersdorf
END:VEVENT
BEGIN:VEVENT
DTSTAMP:20260424T163048
DTSTART;TZID=Europe/Berlin:20260213T170000
DTEND;TZID=Europe/Berlin:20260213T180000
UID:261-45082-20260213T170000@VHSMARKT INDERSDORF
SUMMARY:Kinderturnen (7 bis 10 Jahre) (261-45082) 
LOCATION:Mittelschule; Turnhalle Mittelschule Markt Indersdorf, Wittelsbacherring 15, 85229 Markt Indersdorf
END:VEVENT
BEGIN:VEVENT
DTSTAMP:20260424T163048
DTSTART;TZID=Europe/Berlin:20260227T170000
DTEND;TZID=Europe/Berlin:20260227T180000
UID:261-45082-20260227T170000@VHSMARKT INDERSDORF
SUMMARY:Kinderturnen (7 bis 10 Jahre) (261-45082) 
LOCATION:Mittelschule; Turnhalle Mittelschule Markt Indersdorf, Wittelsbacherring 15, 85229 Markt Indersdorf
END:VEVENT
BEGIN:VEVENT
DTSTAMP:20260424T163048
DTSTART;TZID=Europe/Berlin:20260313T170000
DTEND;TZID=Europe/Berlin:20260313T180000
UID:261-45082-20260313T170000@VHSMARKT INDERSDORF
SUMMARY:Kinderturnen (7 bis 10 Jahre) (261-45082) 
LOCATION:Mittelschule; Turnhalle Mittelschule Markt Indersdorf, Wittelsbacherring 15, 85229 Markt Indersdorf
END:VEVENT
BEGIN:VEVENT
DTSTAMP:20260424T163048
DTSTART;TZID=Europe/Berlin:20260320T170000
DTEND;TZID=Europe/Berlin:20260320T180000
UID:261-45082-20260320T170000@VHSMARKT INDERSDORF
SUMMARY:Kinderturnen (7 bis 10 Jahre) (261-45082) 
LOCATION:Mittelschule; Turnhalle Mittelschule Markt Indersdorf, Wittelsbacherring 15, 85229 Markt Indersdorf
END:VEVENT
BEGIN:VEVENT
DTSTAMP:20260424T163048
DTSTART;TZID=Europe/Berlin:20260417T170000
DTEND;TZID=Europe/Berlin:20260417T180000
UID:261-45082-20260417T170000@VHSMARKT INDERSDORF
SUMMARY:Kinderturnen (7 bis 10 Jahre) (261-45082) 
LOCATION:Mittelschule; Turnhalle Mittelschule Markt Indersdorf, Wittelsbacherring 15, 85229 Markt Indersdorf
END:VEVENT
BEGIN:VEVENT
DTSTAMP:20260424T163048
DTSTART;TZID=Europe/Berlin:20260424T170000
DTEND;TZID=Europe/Berlin:20260424T180000
UID:261-45082-20260424T170000@VHSMARKT INDERSDORF
SUMMARY:Kinderturnen (7 bis 10 Jahre) (261-45082) 
LOCATION:Mittelschule; Turnhalle Mittelschule Markt Indersdorf, Wittelsbacherring 15, 85229 Markt Indersdorf
END:VEVENT
BEGIN:VEVENT
DTSTAMP:20260424T163048
DTSTART;TZID=Europe/Berlin:20260508T170000
DTEND;TZID=Europe/Berlin:20260508T180000
UID:261-45082-20260508T170000@VHSMARKT INDERSDORF
SUMMARY:Kinderturnen (7 bis 10 Jahre) (261-45082) 
LOCATION:Mittelschule; Turnhalle Mittelschule Markt Indersdorf, Wittelsbacherring 15, 85229 Markt Indersdorf
END:VEVENT
BEGIN:VEVENT
DTSTAMP:20260424T163048
DTSTART;TZID=Europe/Berlin:20260515T170000
DTEND;TZID=Europe/Berlin:20260515T180000
UID:261-45082-20260515T170000@VHSMARKT INDERSDORF
SUMMARY:Kinderturnen (7 bis 10 Jahre) (261-45082) 
LOCATION:Mittelschule; Turnhalle Mittelschule Markt Indersdorf, Wittelsbacherring 15, 85229 Markt Indersdorf
END:VEVENT
BEGIN:VEVENT
DTSTAMP:20260424T163048
DTSTART;TZID=Europe/Berlin:20260522T170000
DTEND;TZID=Europe/Berlin:20260522T180000
UID:261-45082-20260522T170000@VHSMARKT INDERSDORF
SUMMARY:Kinderturnen (7 bis 10 Jahre) (261-45082) 
LOCATION:Mittelschule; Turnhalle Mittelschule Markt Indersdorf, Wittelsbacherring 15, 85229 Markt Indersdorf
END:VEVENT
BEGIN:VEVENT
DTSTAMP:20260424T163048
DTSTART;TZID=Europe/Berlin:20260612T170000
DTEND;TZID=Europe/Berlin:20260612T180000
UID:261-45082-20260612T170000@VHSMARKT INDERSDORF
SUMMARY:Kinderturnen (7 bis 10 Jahre) (261-45082) 
LOCATION:Mittelschule; Turnhalle Mittelschule Markt Indersdorf, Wittelsbacherring 15, 85229 Markt Indersdorf
END:VEVENT
BEGIN:VEVENT
DTSTAMP:20260424T163048
DTSTART;TZID=Europe/Berlin:20260619T170000
DTEND;TZID=Europe/Berlin:20260619T180000
UID:261-45082-20260619T170000@VHSMARKT INDERSDORF
SUMMARY:Kinderturnen (7 bis 10 Jahre) (261-45082) 
LOCATION:Mittelschule; Turnhalle Mittelschule Markt Indersdorf, Wittelsbacherring 15, 85229 Markt Indersdorf
END:VEVENT
BEGIN:VEVENT
DTSTAMP:20260424T163048
DTSTART;TZID=Europe/Berlin:20260710T170000
DTEND;TZID=Europe/Berlin:20260710T180000
UID:261-45082-20260710T170000@VHSMARKT INDERSDORF
SUMMARY:Kinderturnen (7 bis 10 Jahre) (261-45082) 
LOCATION:Mittelschule; Turnhalle Mittelschule Markt Indersdorf, Wittelsbacherring 15, 85229 Markt Indersdorf
END:VEVENT
BEGIN:VEVENT
DTSTAMP:20260424T163048
DTSTART;TZID=Europe/Berlin:20260717T170000
DTEND;TZID=Europe/Berlin:20260717T180000
UID:261-45082-20260717T170000@VHSMARKT INDERSDORF
SUMMARY:Kinderturnen (7 bis 10 Jahre) (261-45082) 
LOCATION:Mittelschule; Turnhalle Mittelschule Markt Indersdorf, Wittelsbacherring 15, 85229 Markt Indersdorf
END:VEVENT
BEGIN:VEVENT
DTSTAMP:20260424T163048
DTSTART;TZID=Europe/Berlin:20260724T170000
DTEND;TZID=Europe/Berlin:20260724T180000
UID:261-45082-20260724T170000@VHSMARKT INDERSDORF
SUMMARY:Kinderturnen (7 bis 10 Jahre) (261-45082) 
LOCATION:Mittelschule; Turnhalle Mittelschule Markt Indersdorf, Wittelsbacherring 15, 85229 Markt Indersdorf
END:VEVENT
BEGIN:VEVENT
DTSTAMP:20260424T163048
DTSTART;TZID=Europe/Berlin:20260731T170000
DTEND;TZID=Europe/Berlin:20260731T180000
UID:261-45082-20260731T170000@VHSMARKT INDERSDORF
SUMMARY:Kinderturnen (7 bis 10 Jahre) (261-45082) 
LOCATION:Mittelschule; Turnhalle Mittelschule Markt Indersdorf, Wittelsbacherring 15, 85229 Markt Indersdorf
END:VEVENT
END:VCALENDAR