BEGIN:VCALENDAR
VERSION:2.0
PRODID:http://www.kufer.de/kuferweb / DE
METHOD:PUBLISH
CALSCALE:GREGORIAN
X-WR-TIMEZONE:Europe/Berlin
BEGIN:VTIMEZONE
TZID:Europe/Berlin
X-LIC-LOCATION:Europe/Berlin
BEGIN:DAYLIGHT
TZOFFSETFROM:+0100
TZOFFSETTO:+0200
TZNAME:CEST
DTSTART;TZID=Europe/Berlin:19700329T020000
RRULE:FREQ=YEARLY;INTERVAL=1;BYDAY=-1SU;BYMONTH=3
END:DAYLIGHT
BEGIN:STANDARD
TZOFFSETFROM:+0200
TZOFFSETTO:+0100
TZNAME:CET
DTSTART;TZID=Europe/Berlin:19701025T030000
RRULE:FREQ=YEARLY;INTERVAL=1;BYDAY=-1SU;BYMONTH=10
END:STANDARD
END:VTIMEZONE
BEGIN:VEVENT
DTSTAMP:20260422T124300
DTSTART;TZID=Europe/Berlin:20260204T201500
DTEND;TZID=Europe/Berlin:20260204T211500
UID:261-45221-20260204T201500@VHSMARKT INDERSDORF
SUMMARY:Pilates am Abend vor Ort oder online -  Den Abend ausklingen lassen mit Pilates und Schlussentspannung (261-45221) 
LOCATION:Sandberg 19, Langenpettenbach, Sandberg 19, 85229 Langenpettenbach
END:VEVENT
BEGIN:VEVENT
DTSTAMP:20260422T124300
DTSTART;TZID=Europe/Berlin:20260211T201500
DTEND;TZID=Europe/Berlin:20260211T211500
UID:261-45221-20260211T201500@VHSMARKT INDERSDORF
SUMMARY:Pilates am Abend vor Ort oder online -  Den Abend ausklingen lassen mit Pilates und Schlussentspannung (261-45221) 
LOCATION:Sandberg 19, Langenpettenbach, Sandberg 19, 85229 Langenpettenbach
END:VEVENT
BEGIN:VEVENT
DTSTAMP:20260422T124300
DTSTART;TZID=Europe/Berlin:20260225T201500
DTEND;TZID=Europe/Berlin:20260225T211500
UID:261-45221-20260225T201500@VHSMARKT INDERSDORF
SUMMARY:Pilates am Abend vor Ort oder online -  Den Abend ausklingen lassen mit Pilates und Schlussentspannung (261-45221) 
LOCATION:Sandberg 19, Langenpettenbach, Sandberg 19, 85229 Langenpettenbach
END:VEVENT
BEGIN:VEVENT
DTSTAMP:20260422T124300
DTSTART;TZID=Europe/Berlin:20260311T201500
DTEND;TZID=Europe/Berlin:20260311T211500
UID:261-45221-20260311T201500@VHSMARKT INDERSDORF
SUMMARY:Pilates am Abend vor Ort oder online -  Den Abend ausklingen lassen mit Pilates und Schlussentspannung (261-45221) 
LOCATION:Sandberg 19, Langenpettenbach, Sandberg 19, 85229 Langenpettenbach
END:VEVENT
BEGIN:VEVENT
DTSTAMP:20260422T124300
DTSTART;TZID=Europe/Berlin:20260318T201500
DTEND;TZID=Europe/Berlin:20260318T211500
UID:261-45221-20260318T201500@VHSMARKT INDERSDORF
SUMMARY:Pilates am Abend vor Ort oder online -  Den Abend ausklingen lassen mit Pilates und Schlussentspannung (261-45221) 
LOCATION:Sandberg 19, Langenpettenbach, Sandberg 19, 85229 Langenpettenbach
END:VEVENT
BEGIN:VEVENT
DTSTAMP:20260422T124300
DTSTART;TZID=Europe/Berlin:20260325T201500
DTEND;TZID=Europe/Berlin:20260325T211500
UID:261-45221-20260325T201500@VHSMARKT INDERSDORF
SUMMARY:Pilates am Abend vor Ort oder online -  Den Abend ausklingen lassen mit Pilates und Schlussentspannung (261-45221) 
LOCATION:Sandberg 19, Langenpettenbach, Sandberg 19, 85229 Langenpettenbach
END:VEVENT
END:VCALENDAR