BEGIN:VCALENDAR
VERSION:2.0
PRODID:http://www.kufer.de/kuferweb / DE
METHOD:PUBLISH
CALSCALE:GREGORIAN
X-WR-TIMEZONE:Europe/Berlin
BEGIN:VTIMEZONE
TZID:Europe/Berlin
X-LIC-LOCATION:Europe/Berlin
BEGIN:DAYLIGHT
TZOFFSETFROM:+0100
TZOFFSETTO:+0200
TZNAME:CEST
DTSTART;TZID=Europe/Berlin:19700329T020000
RRULE:FREQ=YEARLY;INTERVAL=1;BYDAY=-1SU;BYMONTH=3
END:DAYLIGHT
BEGIN:STANDARD
TZOFFSETFROM:+0200
TZOFFSETTO:+0100
TZNAME:CET
DTSTART;TZID=Europe/Berlin:19701025T030000
RRULE:FREQ=YEARLY;INTERVAL=1;BYDAY=-1SU;BYMONTH=10
END:STANDARD
END:VTIMEZONE
BEGIN:VEVENT
DTSTAMP:20260419T235143
DTSTART;TZID=Europe/Berlin:20260204T084500
DTEND;TZID=Europe/Berlin:20260204T094500
UID:261-45305-20260204T084500@VHSMARKT INDERSDORF
SUMMARY:Bodystyling (261-45305) 
LOCATION:Mexxfit Fitnessclub, Industriestr. 4, 85229 Markt Indersdorf
END:VEVENT
BEGIN:VEVENT
DTSTAMP:20260419T235143
DTSTART;TZID=Europe/Berlin:20260211T084500
DTEND;TZID=Europe/Berlin:20260211T094500
UID:261-45305-20260211T084500@VHSMARKT INDERSDORF
SUMMARY:Bodystyling (261-45305) 
LOCATION:Mexxfit Fitnessclub, Industriestr. 4, 85229 Markt Indersdorf
END:VEVENT
BEGIN:VEVENT
DTSTAMP:20260419T235143
DTSTART;TZID=Europe/Berlin:20260225T084500
DTEND;TZID=Europe/Berlin:20260225T094500
UID:261-45305-20260225T084500@VHSMARKT INDERSDORF
SUMMARY:Bodystyling (261-45305) 
LOCATION:Mexxfit Fitnessclub, Industriestr. 4, 85229 Markt Indersdorf
END:VEVENT
BEGIN:VEVENT
DTSTAMP:20260419T235143
DTSTART;TZID=Europe/Berlin:20260304T084500
DTEND;TZID=Europe/Berlin:20260304T094500
UID:261-45305-20260304T084500@VHSMARKT INDERSDORF
SUMMARY:Bodystyling (261-45305) 
LOCATION:Mexxfit Fitnessclub, Industriestr. 4, 85229 Markt Indersdorf
END:VEVENT
BEGIN:VEVENT
DTSTAMP:20260419T235143
DTSTART;TZID=Europe/Berlin:20260311T084500
DTEND;TZID=Europe/Berlin:20260311T094500
UID:261-45305-20260311T084500@VHSMARKT INDERSDORF
SUMMARY:Bodystyling (261-45305) 
LOCATION:Mexxfit Fitnessclub, Industriestr. 4, 85229 Markt Indersdorf
END:VEVENT
BEGIN:VEVENT
DTSTAMP:20260419T235143
DTSTART;TZID=Europe/Berlin:20260318T084500
DTEND;TZID=Europe/Berlin:20260318T094500
UID:261-45305-20260318T084500@VHSMARKT INDERSDORF
SUMMARY:Bodystyling (261-45305) 
LOCATION:Mexxfit Fitnessclub, Industriestr. 4, 85229 Markt Indersdorf
END:VEVENT
BEGIN:VEVENT
DTSTAMP:20260419T235143
DTSTART;TZID=Europe/Berlin:20260325T083000
DTEND;TZID=Europe/Berlin:20260325T093000
UID:261-45305-20260325T083000@VHSMARKT INDERSDORF
SUMMARY:Bodystyling (261-45305) 
LOCATION:Mexxfit Fitnessclub, Industriestr. 4, 85229 Markt Indersdorf
END:VEVENT
BEGIN:VEVENT
DTSTAMP:20260419T235143
DTSTART;TZID=Europe/Berlin:20260415T083000
DTEND;TZID=Europe/Berlin:20260415T093000
UID:261-45305-20260415T083000@VHSMARKT INDERSDORF
SUMMARY:Bodystyling (261-45305) 
LOCATION:Mexxfit Fitnessclub, Industriestr. 4, 85229 Markt Indersdorf
END:VEVENT
BEGIN:VEVENT
DTSTAMP:20260419T235143
DTSTART;TZID=Europe/Berlin:20260422T083000
DTEND;TZID=Europe/Berlin:20260422T093000
UID:261-45305-20260422T083000@VHSMARKT INDERSDORF
SUMMARY:Bodystyling (261-45305) 
LOCATION:Mexxfit Fitnessclub, Industriestr. 4, 85229 Markt Indersdorf
END:VEVENT
BEGIN:VEVENT
DTSTAMP:20260419T235143
DTSTART;TZID=Europe/Berlin:20260429T083000
DTEND;TZID=Europe/Berlin:20260429T093000
UID:261-45305-20260429T083000@VHSMARKT INDERSDORF
SUMMARY:Bodystyling (261-45305) 
LOCATION:Mexxfit Fitnessclub, Industriestr. 4, 85229 Markt Indersdorf
END:VEVENT
END:VCALENDAR