BEGIN:VCALENDAR
VERSION:2.0
PRODID:http://www.kufer.de/kuferweb / DE
METHOD:PUBLISH
CALSCALE:GREGORIAN
X-WR-TIMEZONE:Europe/Berlin
BEGIN:VTIMEZONE
TZID:Europe/Berlin
X-LIC-LOCATION:Europe/Berlin
BEGIN:DAYLIGHT
TZOFFSETFROM:+0100
TZOFFSETTO:+0200
TZNAME:CEST
DTSTART;TZID=Europe/Berlin:19700329T020000
RRULE:FREQ=YEARLY;INTERVAL=1;BYDAY=-1SU;BYMONTH=3
END:DAYLIGHT
BEGIN:STANDARD
TZOFFSETFROM:+0200
TZOFFSETTO:+0100
TZNAME:CET
DTSTART;TZID=Europe/Berlin:19701025T030000
RRULE:FREQ=YEARLY;INTERVAL=1;BYDAY=-1SU;BYMONTH=10
END:STANDARD
END:VTIMEZONE
BEGIN:VEVENT
DTSTAMP:20260423T175005
DTSTART;TZID=Europe/Berlin:20260225T193000
DTEND;TZID=Europe/Berlin:20260225T204500
UID:261-45350-20260225T193000@VHSMARKT INDERSDORF
SUMMARY:Step-Aerobic & Bodystyling (261-45350) 
LOCATION:Mexxfit Fitnessclub, Industriestr. 4, 85229 Markt Indersdorf
END:VEVENT
BEGIN:VEVENT
DTSTAMP:20260423T175005
DTSTART;TZID=Europe/Berlin:20260304T193000
DTEND;TZID=Europe/Berlin:20260304T204500
UID:261-45350-20260304T193000@VHSMARKT INDERSDORF
SUMMARY:Step-Aerobic & Bodystyling (261-45350) 
LOCATION:Mexxfit Fitnessclub, Industriestr. 4, 85229 Markt Indersdorf
END:VEVENT
BEGIN:VEVENT
DTSTAMP:20260423T175005
DTSTART;TZID=Europe/Berlin:20260311T193000
DTEND;TZID=Europe/Berlin:20260311T204500
UID:261-45350-20260311T193000@VHSMARKT INDERSDORF
SUMMARY:Step-Aerobic & Bodystyling (261-45350) 
LOCATION:Mexxfit Fitnessclub, Industriestr. 4, 85229 Markt Indersdorf
END:VEVENT
BEGIN:VEVENT
DTSTAMP:20260423T175005
DTSTART;TZID=Europe/Berlin:20260318T193000
DTEND;TZID=Europe/Berlin:20260318T204500
UID:261-45350-20260318T193000@VHSMARKT INDERSDORF
SUMMARY:Step-Aerobic & Bodystyling (261-45350) 
LOCATION:Mexxfit Fitnessclub, Industriestr. 4, 85229 Markt Indersdorf
END:VEVENT
BEGIN:VEVENT
DTSTAMP:20260423T175005
DTSTART;TZID=Europe/Berlin:20260325T193000
DTEND;TZID=Europe/Berlin:20260325T204500
UID:261-45350-20260325T193000@VHSMARKT INDERSDORF
SUMMARY:Step-Aerobic & Bodystyling (261-45350) 
LOCATION:Mexxfit Fitnessclub, Industriestr. 4, 85229 Markt Indersdorf
END:VEVENT
BEGIN:VEVENT
DTSTAMP:20260423T175005
DTSTART;TZID=Europe/Berlin:20260415T193000
DTEND;TZID=Europe/Berlin:20260415T204500
UID:261-45350-20260415T193000@VHSMARKT INDERSDORF
SUMMARY:Step-Aerobic & Bodystyling (261-45350) 
LOCATION:Mexxfit Fitnessclub, Industriestr. 4, 85229 Markt Indersdorf
END:VEVENT
BEGIN:VEVENT
DTSTAMP:20260423T175005
DTSTART;TZID=Europe/Berlin:20260422T193000
DTEND;TZID=Europe/Berlin:20260422T204500
UID:261-45350-20260422T193000@VHSMARKT INDERSDORF
SUMMARY:Step-Aerobic & Bodystyling (261-45350) 
LOCATION:Mexxfit Fitnessclub, Industriestr. 4, 85229 Markt Indersdorf
END:VEVENT
BEGIN:VEVENT
DTSTAMP:20260423T175005
DTSTART;TZID=Europe/Berlin:20260429T193000
DTEND;TZID=Europe/Berlin:20260429T204500
UID:261-45350-20260429T193000@VHSMARKT INDERSDORF
SUMMARY:Step-Aerobic & Bodystyling (261-45350) 
LOCATION:Mexxfit Fitnessclub, Industriestr. 4, 85229 Markt Indersdorf
END:VEVENT
BEGIN:VEVENT
DTSTAMP:20260423T175005
DTSTART;TZID=Europe/Berlin:20260506T193000
DTEND;TZID=Europe/Berlin:20260506T204500
UID:261-45350-20260506T193000@VHSMARKT INDERSDORF
SUMMARY:Step-Aerobic & Bodystyling (261-45350) 
LOCATION:Mexxfit Fitnessclub, Industriestr. 4, 85229 Markt Indersdorf
END:VEVENT
BEGIN:VEVENT
DTSTAMP:20260423T175005
DTSTART;TZID=Europe/Berlin:20260513T193000
DTEND;TZID=Europe/Berlin:20260513T204500
UID:261-45350-20260513T193000@VHSMARKT INDERSDORF
SUMMARY:Step-Aerobic & Bodystyling (261-45350) 
LOCATION:Mexxfit Fitnessclub, Industriestr. 4, 85229 Markt Indersdorf
END:VEVENT
BEGIN:VEVENT
DTSTAMP:20260423T175005
DTSTART;TZID=Europe/Berlin:20260520T193000
DTEND;TZID=Europe/Berlin:20260520T204500
UID:261-45350-20260520T193000@VHSMARKT INDERSDORF
SUMMARY:Step-Aerobic & Bodystyling (261-45350) 
LOCATION:Mexxfit Fitnessclub, Industriestr. 4, 85229 Markt Indersdorf
END:VEVENT
BEGIN:VEVENT
DTSTAMP:20260423T175005
DTSTART;TZID=Europe/Berlin:20260610T193000
DTEND;TZID=Europe/Berlin:20260610T204500
UID:261-45350-20260610T193000@VHSMARKT INDERSDORF
SUMMARY:Step-Aerobic & Bodystyling (261-45350) 
LOCATION:Mexxfit Fitnessclub, Industriestr. 4, 85229 Markt Indersdorf
END:VEVENT
BEGIN:VEVENT
DTSTAMP:20260423T175005
DTSTART;TZID=Europe/Berlin:20260617T193000
DTEND;TZID=Europe/Berlin:20260617T204500
UID:261-45350-20260617T193000@VHSMARKT INDERSDORF
SUMMARY:Step-Aerobic & Bodystyling (261-45350) 
LOCATION:Mexxfit Fitnessclub, Industriestr. 4, 85229 Markt Indersdorf
END:VEVENT
BEGIN:VEVENT
DTSTAMP:20260423T175005
DTSTART;TZID=Europe/Berlin:20260624T193000
DTEND;TZID=Europe/Berlin:20260624T204500
UID:261-45350-20260624T193000@VHSMARKT INDERSDORF
SUMMARY:Step-Aerobic & Bodystyling (261-45350) 
LOCATION:Mexxfit Fitnessclub, Industriestr. 4, 85229 Markt Indersdorf
END:VEVENT
BEGIN:VEVENT
DTSTAMP:20260423T175005
DTSTART;TZID=Europe/Berlin:20260701T193000
DTEND;TZID=Europe/Berlin:20260701T204500
UID:261-45350-20260701T193000@VHSMARKT INDERSDORF
SUMMARY:Step-Aerobic & Bodystyling (261-45350) 
LOCATION:Mexxfit Fitnessclub, Industriestr. 4, 85229 Markt Indersdorf
END:VEVENT
BEGIN:VEVENT
DTSTAMP:20260423T175005
DTSTART;TZID=Europe/Berlin:20260708T193000
DTEND;TZID=Europe/Berlin:20260708T204500
UID:261-45350-20260708T193000@VHSMARKT INDERSDORF
SUMMARY:Step-Aerobic & Bodystyling (261-45350) 
LOCATION:Mexxfit Fitnessclub, Industriestr. 4, 85229 Markt Indersdorf
END:VEVENT
BEGIN:VEVENT
DTSTAMP:20260423T175005
DTSTART;TZID=Europe/Berlin:20260715T193000
DTEND;TZID=Europe/Berlin:20260715T204500
UID:261-45350-20260715T193000@VHSMARKT INDERSDORF
SUMMARY:Step-Aerobic & Bodystyling (261-45350) 
LOCATION:Mexxfit Fitnessclub, Industriestr. 4, 85229 Markt Indersdorf
END:VEVENT
END:VCALENDAR