BEGIN:VCALENDAR
VERSION:2.0
PRODID:http://www.kufer.de/kuferweb / DE
METHOD:PUBLISH
CALSCALE:GREGORIAN
X-WR-TIMEZONE:Europe/Berlin
BEGIN:VTIMEZONE
TZID:Europe/Berlin
X-LIC-LOCATION:Europe/Berlin
BEGIN:DAYLIGHT
TZOFFSETFROM:+0100
TZOFFSETTO:+0200
TZNAME:CEST
DTSTART;TZID=Europe/Berlin:19700329T020000
RRULE:FREQ=YEARLY;INTERVAL=1;BYDAY=-1SU;BYMONTH=3
END:DAYLIGHT
BEGIN:STANDARD
TZOFFSETFROM:+0200
TZOFFSETTO:+0100
TZNAME:CET
DTSTART;TZID=Europe/Berlin:19701025T030000
RRULE:FREQ=YEARLY;INTERVAL=1;BYDAY=-1SU;BYMONTH=10
END:STANDARD
END:VTIMEZONE
BEGIN:VEVENT
DTSTAMP:20260424T121557
DTSTART;TZID=Europe/Berlin:20260416T183000
DTEND;TZID=Europe/Berlin:20260416T191500
UID:261-46015-20260416T183000@VHSMARKT INDERSDORF
SUMMARY:Aqua Fitness (261-46015) 
LOCATION:Blubb pool + spa, Marktplatz 5, Marktplatz 5, 85229 Markt Indersdorf
END:VEVENT
BEGIN:VEVENT
DTSTAMP:20260424T121557
DTSTART;TZID=Europe/Berlin:20260423T183000
DTEND;TZID=Europe/Berlin:20260423T191500
UID:261-46015-20260423T183000@VHSMARKT INDERSDORF
SUMMARY:Aqua Fitness (261-46015) 
LOCATION:Blubb pool + spa, Marktplatz 5, Marktplatz 5, 85229 Markt Indersdorf
END:VEVENT
BEGIN:VEVENT
DTSTAMP:20260424T121557
DTSTART;TZID=Europe/Berlin:20260430T183000
DTEND;TZID=Europe/Berlin:20260430T191500
UID:261-46015-20260430T183000@VHSMARKT INDERSDORF
SUMMARY:Aqua Fitness (261-46015) 
LOCATION:Blubb pool + spa, Marktplatz 5, Marktplatz 5, 85229 Markt Indersdorf
END:VEVENT
BEGIN:VEVENT
DTSTAMP:20260424T121557
DTSTART;TZID=Europe/Berlin:20260507T183000
DTEND;TZID=Europe/Berlin:20260507T191500
UID:261-46015-20260507T183000@VHSMARKT INDERSDORF
SUMMARY:Aqua Fitness (261-46015) 
LOCATION:Blubb pool + spa, Marktplatz 5, Marktplatz 5, 85229 Markt Indersdorf
END:VEVENT
BEGIN:VEVENT
DTSTAMP:20260424T121557
DTSTART;TZID=Europe/Berlin:20260521T183000
DTEND;TZID=Europe/Berlin:20260521T191500
UID:261-46015-20260521T183000@VHSMARKT INDERSDORF
SUMMARY:Aqua Fitness (261-46015) 
LOCATION:Blubb pool + spa, Marktplatz 5, Marktplatz 5, 85229 Markt Indersdorf
END:VEVENT
BEGIN:VEVENT
DTSTAMP:20260424T121557
DTSTART;TZID=Europe/Berlin:20260611T183000
DTEND;TZID=Europe/Berlin:20260611T191500
UID:261-46015-20260611T183000@VHSMARKT INDERSDORF
SUMMARY:Aqua Fitness (261-46015) 
LOCATION:Blubb pool + spa, Marktplatz 5, Marktplatz 5, 85229 Markt Indersdorf
END:VEVENT
BEGIN:VEVENT
DTSTAMP:20260424T121557
DTSTART;TZID=Europe/Berlin:20260618T183000
DTEND;TZID=Europe/Berlin:20260618T191500
UID:261-46015-20260618T183000@VHSMARKT INDERSDORF
SUMMARY:Aqua Fitness (261-46015) 
LOCATION:Blubb pool + spa, Marktplatz 5, Marktplatz 5, 85229 Markt Indersdorf
END:VEVENT
BEGIN:VEVENT
DTSTAMP:20260424T121557
DTSTART;TZID=Europe/Berlin:20260625T183000
DTEND;TZID=Europe/Berlin:20260625T191500
UID:261-46015-20260625T183000@VHSMARKT INDERSDORF
SUMMARY:Aqua Fitness (261-46015) 
LOCATION:Blubb pool + spa, Marktplatz 5, Marktplatz 5, 85229 Markt Indersdorf
END:VEVENT
BEGIN:VEVENT
DTSTAMP:20260424T121557
DTSTART;TZID=Europe/Berlin:20260702T183000
DTEND;TZID=Europe/Berlin:20260702T191500
UID:261-46015-20260702T183000@VHSMARKT INDERSDORF
SUMMARY:Aqua Fitness (261-46015) 
LOCATION:Blubb pool + spa, Marktplatz 5, Marktplatz 5, 85229 Markt Indersdorf
END:VEVENT
BEGIN:VEVENT
DTSTAMP:20260424T121557
DTSTART;TZID=Europe/Berlin:20260709T183000
DTEND;TZID=Europe/Berlin:20260709T191500
UID:261-46015-20260709T183000@VHSMARKT INDERSDORF
SUMMARY:Aqua Fitness (261-46015) 
LOCATION:Blubb pool + spa, Marktplatz 5, Marktplatz 5, 85229 Markt Indersdorf
END:VEVENT
BEGIN:VEVENT
DTSTAMP:20260424T121557
DTSTART;TZID=Europe/Berlin:20260716T183000
DTEND;TZID=Europe/Berlin:20260716T191500
UID:261-46015-20260716T183000@VHSMARKT INDERSDORF
SUMMARY:Aqua Fitness (261-46015) 
LOCATION:Blubb pool + spa, Marktplatz 5, Marktplatz 5, 85229 Markt Indersdorf
END:VEVENT
BEGIN:VEVENT
DTSTAMP:20260424T121557
DTSTART;TZID=Europe/Berlin:20260723T183000
DTEND;TZID=Europe/Berlin:20260723T191500
UID:261-46015-20260723T183000@VHSMARKT INDERSDORF
SUMMARY:Aqua Fitness (261-46015) 
LOCATION:Blubb pool + spa, Marktplatz 5, Marktplatz 5, 85229 Markt Indersdorf
END:VEVENT
END:VCALENDAR