BEGIN:VCALENDAR
VERSION:2.0
PRODID:http://www.kufer.de/kuferweb / DE
METHOD:PUBLISH
CALSCALE:GREGORIAN
X-WR-TIMEZONE:Europe/Berlin
BEGIN:VTIMEZONE
TZID:Europe/Berlin
X-LIC-LOCATION:Europe/Berlin
BEGIN:DAYLIGHT
TZOFFSETFROM:+0100
TZOFFSETTO:+0200
TZNAME:CEST
DTSTART;TZID=Europe/Berlin:19700329T020000
RRULE:FREQ=YEARLY;INTERVAL=1;BYDAY=-1SU;BYMONTH=3
END:DAYLIGHT
BEGIN:STANDARD
TZOFFSETFROM:+0200
TZOFFSETTO:+0100
TZNAME:CET
DTSTART;TZID=Europe/Berlin:19701025T030000
RRULE:FREQ=YEARLY;INTERVAL=1;BYDAY=-1SU;BYMONTH=10
END:STANDARD
END:VTIMEZONE
BEGIN:VEVENT
DTSTAMP:20260424T115114
DTSTART;TZID=Europe/Berlin:20260210T133000
DTEND;TZID=Europe/Berlin:20260210T141500
UID:261-46017-20260210T133000@VHSMARKT INDERSDORF
SUMMARY:Kräftigende Aqua-Fit-Gymnastik (261-46017) 
LOCATION:Blubb pool + spa, Marktplatz 5, Marktplatz 5, 85229 Markt Indersdorf
END:VEVENT
BEGIN:VEVENT
DTSTAMP:20260424T115114
DTSTART;TZID=Europe/Berlin:20260224T133000
DTEND;TZID=Europe/Berlin:20260224T141500
UID:261-46017-20260224T133000@VHSMARKT INDERSDORF
SUMMARY:Kräftigende Aqua-Fit-Gymnastik (261-46017) 
LOCATION:Blubb pool + spa, Marktplatz 5, Marktplatz 5, 85229 Markt Indersdorf
END:VEVENT
BEGIN:VEVENT
DTSTAMP:20260424T115114
DTSTART;TZID=Europe/Berlin:20260303T133000
DTEND;TZID=Europe/Berlin:20260303T141500
UID:261-46017-20260303T133000@VHSMARKT INDERSDORF
SUMMARY:Kräftigende Aqua-Fit-Gymnastik (261-46017) 
LOCATION:Blubb pool + spa, Marktplatz 5, Marktplatz 5, 85229 Markt Indersdorf
END:VEVENT
BEGIN:VEVENT
DTSTAMP:20260424T115114
DTSTART;TZID=Europe/Berlin:20260310T133000
DTEND;TZID=Europe/Berlin:20260310T141500
UID:261-46017-20260310T133000@VHSMARKT INDERSDORF
SUMMARY:Kräftigende Aqua-Fit-Gymnastik (261-46017) 
LOCATION:Blubb pool + spa, Marktplatz 5, Marktplatz 5, 85229 Markt Indersdorf
END:VEVENT
BEGIN:VEVENT
DTSTAMP:20260424T115114
DTSTART;TZID=Europe/Berlin:20260317T133000
DTEND;TZID=Europe/Berlin:20260317T141500
UID:261-46017-20260317T133000@VHSMARKT INDERSDORF
SUMMARY:Kräftigende Aqua-Fit-Gymnastik (261-46017) 
LOCATION:Blubb pool + spa, Marktplatz 5, Marktplatz 5, 85229 Markt Indersdorf
END:VEVENT
BEGIN:VEVENT
DTSTAMP:20260424T115114
DTSTART;TZID=Europe/Berlin:20260414T133000
DTEND;TZID=Europe/Berlin:20260414T141500
UID:261-46017-20260414T133000@VHSMARKT INDERSDORF
SUMMARY:Kräftigende Aqua-Fit-Gymnastik (261-46017) 
LOCATION:Blubb pool + spa, Marktplatz 5, Marktplatz 5, 85229 Markt Indersdorf
END:VEVENT
BEGIN:VEVENT
DTSTAMP:20260424T115114
DTSTART;TZID=Europe/Berlin:20260421T133000
DTEND;TZID=Europe/Berlin:20260421T141500
UID:261-46017-20260421T133000@VHSMARKT INDERSDORF
SUMMARY:Kräftigende Aqua-Fit-Gymnastik (261-46017) 
LOCATION:Blubb pool + spa, Marktplatz 5, Marktplatz 5, 85229 Markt Indersdorf
END:VEVENT
BEGIN:VEVENT
DTSTAMP:20260424T115114
DTSTART;TZID=Europe/Berlin:20260428T133000
DTEND;TZID=Europe/Berlin:20260428T141500
UID:261-46017-20260428T133000@VHSMARKT INDERSDORF
SUMMARY:Kräftigende Aqua-Fit-Gymnastik (261-46017) 
LOCATION:Blubb pool + spa, Marktplatz 5, Marktplatz 5, 85229 Markt Indersdorf
END:VEVENT
BEGIN:VEVENT
DTSTAMP:20260424T115114
DTSTART;TZID=Europe/Berlin:20260512T133000
DTEND;TZID=Europe/Berlin:20260512T141500
UID:261-46017-20260512T133000@VHSMARKT INDERSDORF
SUMMARY:Kräftigende Aqua-Fit-Gymnastik (261-46017) 
LOCATION:Blubb pool + spa, Marktplatz 5, Marktplatz 5, 85229 Markt Indersdorf
END:VEVENT
BEGIN:VEVENT
DTSTAMP:20260424T115114
DTSTART;TZID=Europe/Berlin:20260519T133000
DTEND;TZID=Europe/Berlin:20260519T141500
UID:261-46017-20260519T133000@VHSMARKT INDERSDORF
SUMMARY:Kräftigende Aqua-Fit-Gymnastik (261-46017) 
LOCATION:Blubb pool + spa, Marktplatz 5, Marktplatz 5, 85229 Markt Indersdorf
END:VEVENT
BEGIN:VEVENT
DTSTAMP:20260424T115114
DTSTART;TZID=Europe/Berlin:20260609T133000
DTEND;TZID=Europe/Berlin:20260609T141500
UID:261-46017-20260609T133000@VHSMARKT INDERSDORF
SUMMARY:Kräftigende Aqua-Fit-Gymnastik (261-46017) 
LOCATION:Blubb pool + spa, Marktplatz 5, Marktplatz 5, 85229 Markt Indersdorf
END:VEVENT
BEGIN:VEVENT
DTSTAMP:20260424T115114
DTSTART;TZID=Europe/Berlin:20260616T133000
DTEND;TZID=Europe/Berlin:20260616T141500
UID:261-46017-20260616T133000@VHSMARKT INDERSDORF
SUMMARY:Kräftigende Aqua-Fit-Gymnastik (261-46017) 
LOCATION:Blubb pool + spa, Marktplatz 5, Marktplatz 5, 85229 Markt Indersdorf
END:VEVENT
END:VCALENDAR