BEGIN:VCALENDAR
VERSION:2.0
PRODID:http://www.kufer.de/kuferweb / DE
METHOD:PUBLISH
CALSCALE:GREGORIAN
X-WR-TIMEZONE:Europe/Berlin
BEGIN:VTIMEZONE
TZID:Europe/Berlin
X-LIC-LOCATION:Europe/Berlin
BEGIN:DAYLIGHT
TZOFFSETFROM:+0100
TZOFFSETTO:+0200
TZNAME:CEST
DTSTART;TZID=Europe/Berlin:19700329T020000
RRULE:FREQ=YEARLY;INTERVAL=1;BYDAY=-1SU;BYMONTH=3
END:DAYLIGHT
BEGIN:STANDARD
TZOFFSETFROM:+0200
TZOFFSETTO:+0100
TZNAME:CET
DTSTART;TZID=Europe/Berlin:19701025T030000
RRULE:FREQ=YEARLY;INTERVAL=1;BYDAY=-1SU;BYMONTH=10
END:STANDARD
END:VTIMEZONE
BEGIN:VEVENT
DTSTAMP:20260424T114953
DTSTART;TZID=Europe/Berlin:20260211T130000
DTEND;TZID=Europe/Berlin:20260211T134500
UID:261-46018-20260211T130000@VHSMARKT INDERSDORF
SUMMARY:Kräftigende Aqua-Fit-Gymnastik (261-46018) 
LOCATION:Blubb pool + spa, Marktplatz 5, Marktplatz 5, 85229 Markt Indersdorf
END:VEVENT
BEGIN:VEVENT
DTSTAMP:20260424T114953
DTSTART;TZID=Europe/Berlin:20260225T130000
DTEND;TZID=Europe/Berlin:20260225T134500
UID:261-46018-20260225T130000@VHSMARKT INDERSDORF
SUMMARY:Kräftigende Aqua-Fit-Gymnastik (261-46018) 
LOCATION:Blubb pool + spa, Marktplatz 5, Marktplatz 5, 85229 Markt Indersdorf
END:VEVENT
BEGIN:VEVENT
DTSTAMP:20260424T114953
DTSTART;TZID=Europe/Berlin:20260304T130000
DTEND;TZID=Europe/Berlin:20260304T134500
UID:261-46018-20260304T130000@VHSMARKT INDERSDORF
SUMMARY:Kräftigende Aqua-Fit-Gymnastik (261-46018) 
LOCATION:Blubb pool + spa, Marktplatz 5, Marktplatz 5, 85229 Markt Indersdorf
END:VEVENT
BEGIN:VEVENT
DTSTAMP:20260424T114953
DTSTART;TZID=Europe/Berlin:20260311T130000
DTEND;TZID=Europe/Berlin:20260311T134500
UID:261-46018-20260311T130000@VHSMARKT INDERSDORF
SUMMARY:Kräftigende Aqua-Fit-Gymnastik (261-46018) 
LOCATION:Blubb pool + spa, Marktplatz 5, Marktplatz 5, 85229 Markt Indersdorf
END:VEVENT
BEGIN:VEVENT
DTSTAMP:20260424T114953
DTSTART;TZID=Europe/Berlin:20260318T130000
DTEND;TZID=Europe/Berlin:20260318T134500
UID:261-46018-20260318T130000@VHSMARKT INDERSDORF
SUMMARY:Kräftigende Aqua-Fit-Gymnastik (261-46018) 
LOCATION:Blubb pool + spa, Marktplatz 5, Marktplatz 5, 85229 Markt Indersdorf
END:VEVENT
BEGIN:VEVENT
DTSTAMP:20260424T114953
DTSTART;TZID=Europe/Berlin:20260415T130000
DTEND;TZID=Europe/Berlin:20260415T134500
UID:261-46018-20260415T130000@VHSMARKT INDERSDORF
SUMMARY:Kräftigende Aqua-Fit-Gymnastik (261-46018) 
LOCATION:Blubb pool + spa, Marktplatz 5, Marktplatz 5, 85229 Markt Indersdorf
END:VEVENT
BEGIN:VEVENT
DTSTAMP:20260424T114953
DTSTART;TZID=Europe/Berlin:20260422T130000
DTEND;TZID=Europe/Berlin:20260422T134500
UID:261-46018-20260422T130000@VHSMARKT INDERSDORF
SUMMARY:Kräftigende Aqua-Fit-Gymnastik (261-46018) 
LOCATION:Blubb pool + spa, Marktplatz 5, Marktplatz 5, 85229 Markt Indersdorf
END:VEVENT
BEGIN:VEVENT
DTSTAMP:20260424T114953
DTSTART;TZID=Europe/Berlin:20260429T130000
DTEND;TZID=Europe/Berlin:20260429T134500
UID:261-46018-20260429T130000@VHSMARKT INDERSDORF
SUMMARY:Kräftigende Aqua-Fit-Gymnastik (261-46018) 
LOCATION:Blubb pool + spa, Marktplatz 5, Marktplatz 5, 85229 Markt Indersdorf
END:VEVENT
BEGIN:VEVENT
DTSTAMP:20260424T114953
DTSTART;TZID=Europe/Berlin:20260513T130000
DTEND;TZID=Europe/Berlin:20260513T134500
UID:261-46018-20260513T130000@VHSMARKT INDERSDORF
SUMMARY:Kräftigende Aqua-Fit-Gymnastik (261-46018) 
LOCATION:Blubb pool + spa, Marktplatz 5, Marktplatz 5, 85229 Markt Indersdorf
END:VEVENT
BEGIN:VEVENT
DTSTAMP:20260424T114953
DTSTART;TZID=Europe/Berlin:20260520T130000
DTEND;TZID=Europe/Berlin:20260520T134500
UID:261-46018-20260520T130000@VHSMARKT INDERSDORF
SUMMARY:Kräftigende Aqua-Fit-Gymnastik (261-46018) 
LOCATION:Blubb pool + spa, Marktplatz 5, Marktplatz 5, 85229 Markt Indersdorf
END:VEVENT
BEGIN:VEVENT
DTSTAMP:20260424T114953
DTSTART;TZID=Europe/Berlin:20260610T130000
DTEND;TZID=Europe/Berlin:20260610T134500
UID:261-46018-20260610T130000@VHSMARKT INDERSDORF
SUMMARY:Kräftigende Aqua-Fit-Gymnastik (261-46018) 
LOCATION:Blubb pool + spa, Marktplatz 5, Marktplatz 5, 85229 Markt Indersdorf
END:VEVENT
BEGIN:VEVENT
DTSTAMP:20260424T114953
DTSTART;TZID=Europe/Berlin:20260617T130000
DTEND;TZID=Europe/Berlin:20260617T134500
UID:261-46018-20260617T130000@VHSMARKT INDERSDORF
SUMMARY:Kräftigende Aqua-Fit-Gymnastik (261-46018) 
LOCATION:Blubb pool + spa, Marktplatz 5, Marktplatz 5, 85229 Markt Indersdorf
END:VEVENT
END:VCALENDAR