BEGIN:VCALENDAR
VERSION:2.0
PRODID:http://www.kufer.de/kuferweb / DE
METHOD:PUBLISH
CALSCALE:GREGORIAN
X-WR-TIMEZONE:Europe/Berlin
BEGIN:VTIMEZONE
TZID:Europe/Berlin
X-LIC-LOCATION:Europe/Berlin
BEGIN:DAYLIGHT
TZOFFSETFROM:+0100
TZOFFSETTO:+0200
TZNAME:CEST
DTSTART;TZID=Europe/Berlin:19700329T020000
RRULE:FREQ=YEARLY;INTERVAL=1;BYDAY=-1SU;BYMONTH=3
END:DAYLIGHT
BEGIN:STANDARD
TZOFFSETFROM:+0200
TZOFFSETTO:+0100
TZNAME:CET
DTSTART;TZID=Europe/Berlin:19701025T030000
RRULE:FREQ=YEARLY;INTERVAL=1;BYDAY=-1SU;BYMONTH=10
END:STANDARD
END:VTIMEZONE
BEGIN:VEVENT
DTSTAMP:20260423T174918
DTSTART;TZID=Europe/Berlin:20260227T081500
DTEND;TZID=Europe/Berlin:20260227T090000
UID:261-46054-20260227T081500@VHSMARKT INDERSDORF
SUMMARY:Aqua Fitness (261-46054) 
LOCATION:Blubb pool + spa, Marktplatz 5, Marktplatz 5, 85229 Markt Indersdorf
END:VEVENT
BEGIN:VEVENT
DTSTAMP:20260423T174918
DTSTART;TZID=Europe/Berlin:20260306T081500
DTEND;TZID=Europe/Berlin:20260306T090000
UID:261-46054-20260306T081500@VHSMARKT INDERSDORF
SUMMARY:Aqua Fitness (261-46054) 
LOCATION:Blubb pool + spa, Marktplatz 5, Marktplatz 5, 85229 Markt Indersdorf
END:VEVENT
BEGIN:VEVENT
DTSTAMP:20260423T174918
DTSTART;TZID=Europe/Berlin:20260313T081500
DTEND;TZID=Europe/Berlin:20260313T090000
UID:261-46054-20260313T081500@VHSMARKT INDERSDORF
SUMMARY:Aqua Fitness (261-46054) 
LOCATION:Blubb pool + spa, Marktplatz 5, Marktplatz 5, 85229 Markt Indersdorf
END:VEVENT
BEGIN:VEVENT
DTSTAMP:20260423T174918
DTSTART;TZID=Europe/Berlin:20260320T081500
DTEND;TZID=Europe/Berlin:20260320T090000
UID:261-46054-20260320T081500@VHSMARKT INDERSDORF
SUMMARY:Aqua Fitness (261-46054) 
LOCATION:Blubb pool + spa, Marktplatz 5, Marktplatz 5, 85229 Markt Indersdorf
END:VEVENT
BEGIN:VEVENT
DTSTAMP:20260423T174918
DTSTART;TZID=Europe/Berlin:20260417T081500
DTEND;TZID=Europe/Berlin:20260417T090000
UID:261-46054-20260417T081500@VHSMARKT INDERSDORF
SUMMARY:Aqua Fitness (261-46054) 
LOCATION:Blubb pool + spa, Marktplatz 5, Marktplatz 5, 85229 Markt Indersdorf
END:VEVENT
BEGIN:VEVENT
DTSTAMP:20260423T174918
DTSTART;TZID=Europe/Berlin:20260424T081500
DTEND;TZID=Europe/Berlin:20260424T090000
UID:261-46054-20260424T081500@VHSMARKT INDERSDORF
SUMMARY:Aqua Fitness (261-46054) 
LOCATION:Blubb pool + spa, Marktplatz 5, Marktplatz 5, 85229 Markt Indersdorf
END:VEVENT
BEGIN:VEVENT
DTSTAMP:20260423T174918
DTSTART;TZID=Europe/Berlin:20260508T081500
DTEND;TZID=Europe/Berlin:20260508T090000
UID:261-46054-20260508T081500@VHSMARKT INDERSDORF
SUMMARY:Aqua Fitness (261-46054) 
LOCATION:Blubb pool + spa, Marktplatz 5, Marktplatz 5, 85229 Markt Indersdorf
END:VEVENT
BEGIN:VEVENT
DTSTAMP:20260423T174918
DTSTART;TZID=Europe/Berlin:20260515T081500
DTEND;TZID=Europe/Berlin:20260515T090000
UID:261-46054-20260515T081500@VHSMARKT INDERSDORF
SUMMARY:Aqua Fitness (261-46054) 
LOCATION:Blubb pool + spa, Marktplatz 5, Marktplatz 5, 85229 Markt Indersdorf
END:VEVENT
BEGIN:VEVENT
DTSTAMP:20260423T174918
DTSTART;TZID=Europe/Berlin:20260522T081500
DTEND;TZID=Europe/Berlin:20260522T090000
UID:261-46054-20260522T081500@VHSMARKT INDERSDORF
SUMMARY:Aqua Fitness (261-46054) 
LOCATION:Blubb pool + spa, Marktplatz 5, Marktplatz 5, 85229 Markt Indersdorf
END:VEVENT
BEGIN:VEVENT
DTSTAMP:20260423T174918
DTSTART;TZID=Europe/Berlin:20260619T081500
DTEND;TZID=Europe/Berlin:20260619T090000
UID:261-46054-20260619T081500@VHSMARKT INDERSDORF
SUMMARY:Aqua Fitness (261-46054) 
LOCATION:Blubb pool + spa, Marktplatz 5, Marktplatz 5, 85229 Markt Indersdorf
END:VEVENT
END:VCALENDAR