BEGIN:VCALENDAR
VERSION:2.0
PRODID:http://www.kufer.de/kuferweb / DE
METHOD:PUBLISH
CALSCALE:GREGORIAN
X-WR-TIMEZONE:Europe/Berlin
BEGIN:VTIMEZONE
TZID:Europe/Berlin
X-LIC-LOCATION:Europe/Berlin
BEGIN:DAYLIGHT
TZOFFSETFROM:+0100
TZOFFSETTO:+0200
TZNAME:CEST
DTSTART;TZID=Europe/Berlin:19700329T020000
RRULE:FREQ=YEARLY;INTERVAL=1;BYDAY=-1SU;BYMONTH=3
END:DAYLIGHT
BEGIN:STANDARD
TZOFFSETFROM:+0200
TZOFFSETTO:+0100
TZNAME:CET
DTSTART;TZID=Europe/Berlin:19701025T030000
RRULE:FREQ=YEARLY;INTERVAL=1;BYDAY=-1SU;BYMONTH=10
END:STANDARD
END:VTIMEZONE
BEGIN:VEVENT
DTSTAMP:20260424T114919
DTSTART;TZID=Europe/Berlin:20260223T094500
DTEND;TZID=Europe/Berlin:20260223T103000
UID:261-46055-20260223T094500@VHSMARKT INDERSDORF
SUMMARY:Aqua Fitness (261-46055) 
LOCATION:Blubb pool + spa, Marktplatz 5, Marktplatz 5, 85229 Markt Indersdorf
END:VEVENT
BEGIN:VEVENT
DTSTAMP:20260424T114919
DTSTART;TZID=Europe/Berlin:20260302T094500
DTEND;TZID=Europe/Berlin:20260302T103000
UID:261-46055-20260302T094500@VHSMARKT INDERSDORF
SUMMARY:Aqua Fitness (261-46055) 
LOCATION:Blubb pool + spa, Marktplatz 5, Marktplatz 5, 85229 Markt Indersdorf
END:VEVENT
BEGIN:VEVENT
DTSTAMP:20260424T114919
DTSTART;TZID=Europe/Berlin:20260309T094500
DTEND;TZID=Europe/Berlin:20260309T103000
UID:261-46055-20260309T094500@VHSMARKT INDERSDORF
SUMMARY:Aqua Fitness (261-46055) 
LOCATION:Blubb pool + spa, Marktplatz 5, Marktplatz 5, 85229 Markt Indersdorf
END:VEVENT
BEGIN:VEVENT
DTSTAMP:20260424T114919
DTSTART;TZID=Europe/Berlin:20260316T094500
DTEND;TZID=Europe/Berlin:20260316T103000
UID:261-46055-20260316T094500@VHSMARKT INDERSDORF
SUMMARY:Aqua Fitness (261-46055) 
LOCATION:Blubb pool + spa, Marktplatz 5, Marktplatz 5, 85229 Markt Indersdorf
END:VEVENT
BEGIN:VEVENT
DTSTAMP:20260424T114919
DTSTART;TZID=Europe/Berlin:20260323T094500
DTEND;TZID=Europe/Berlin:20260323T103000
UID:261-46055-20260323T094500@VHSMARKT INDERSDORF
SUMMARY:Aqua Fitness (261-46055) 
LOCATION:Blubb pool + spa, Marktplatz 5, Marktplatz 5, 85229 Markt Indersdorf
END:VEVENT
BEGIN:VEVENT
DTSTAMP:20260424T114919
DTSTART;TZID=Europe/Berlin:20260413T094500
DTEND;TZID=Europe/Berlin:20260413T103000
UID:261-46055-20260413T094500@VHSMARKT INDERSDORF
SUMMARY:Aqua Fitness (261-46055) 
LOCATION:Blubb pool + spa, Marktplatz 5, Marktplatz 5, 85229 Markt Indersdorf
END:VEVENT
BEGIN:VEVENT
DTSTAMP:20260424T114919
DTSTART;TZID=Europe/Berlin:20260420T094500
DTEND;TZID=Europe/Berlin:20260420T103000
UID:261-46055-20260420T094500@VHSMARKT INDERSDORF
SUMMARY:Aqua Fitness (261-46055) 
LOCATION:Blubb pool + spa, Marktplatz 5, Marktplatz 5, 85229 Markt Indersdorf
END:VEVENT
BEGIN:VEVENT
DTSTAMP:20260424T114919
DTSTART;TZID=Europe/Berlin:20260427T094500
DTEND;TZID=Europe/Berlin:20260427T103000
UID:261-46055-20260427T094500@VHSMARKT INDERSDORF
SUMMARY:Aqua Fitness (261-46055) 
LOCATION:Blubb pool + spa, Marktplatz 5, Marktplatz 5, 85229 Markt Indersdorf
END:VEVENT
BEGIN:VEVENT
DTSTAMP:20260424T114919
DTSTART;TZID=Europe/Berlin:20260504T094500
DTEND;TZID=Europe/Berlin:20260504T103000
UID:261-46055-20260504T094500@VHSMARKT INDERSDORF
SUMMARY:Aqua Fitness (261-46055) 
LOCATION:Blubb pool + spa, Marktplatz 5, Marktplatz 5, 85229 Markt Indersdorf
END:VEVENT
BEGIN:VEVENT
DTSTAMP:20260424T114919
DTSTART;TZID=Europe/Berlin:20260511T094500
DTEND;TZID=Europe/Berlin:20260511T103000
UID:261-46055-20260511T094500@VHSMARKT INDERSDORF
SUMMARY:Aqua Fitness (261-46055) 
LOCATION:Blubb pool + spa, Marktplatz 5, Marktplatz 5, 85229 Markt Indersdorf
END:VEVENT
END:VCALENDAR