BEGIN:VCALENDAR
VERSION:2.0
PRODID:http://www.kufer.de/kuferweb / DE
METHOD:PUBLISH
CALSCALE:GREGORIAN
X-WR-TIMEZONE:Europe/Berlin
BEGIN:VTIMEZONE
TZID:Europe/Berlin
X-LIC-LOCATION:Europe/Berlin
BEGIN:DAYLIGHT
TZOFFSETFROM:+0100
TZOFFSETTO:+0200
TZNAME:CEST
DTSTART;TZID=Europe/Berlin:19700329T020000
RRULE:FREQ=YEARLY;INTERVAL=1;BYDAY=-1SU;BYMONTH=3
END:DAYLIGHT
BEGIN:STANDARD
TZOFFSETFROM:+0200
TZOFFSETTO:+0100
TZNAME:CET
DTSTART;TZID=Europe/Berlin:19701025T030000
RRULE:FREQ=YEARLY;INTERVAL=1;BYDAY=-1SU;BYMONTH=10
END:STANDARD
END:VTIMEZONE
BEGIN:VEVENT
DTSTAMP:20260421T140145
DTSTART;TZID=Europe/Berlin:20260704T140000
DTEND;TZID=Europe/Berlin:20260704T190000
UID:261-46333-20260704T140000@VHSMARKT INDERSDORF
SUMMARY:Sommer, Sonne, Ponyspaß für Kinder von 8 - 12 Jahren (261-46333) 
LOCATION:Weiler Weide, Markt Indersdorf, Weiler Weide, Weil 24, 85229 Markt Indersdorf
END:VEVENT
END:VCALENDAR